BEGIN:VCALENDAR
VERSION:2.0
PRODID:-//Research4Committees - ECPv6.15.20//NONSGML v1.0//EN
CALSCALE:GREGORIAN
METHOD:PUBLISH
X-WR-CALNAME:Research4Committees
X-ORIGINAL-URL:https://research4committees.blog
X-WR-CALDESC:Events for Research4Committees
REFRESH-INTERVAL;VALUE=DURATION:PT1H
X-Robots-Tag:noindex
X-PUBLISHED-TTL:PT1H
BEGIN:VTIMEZONE
TZID:Europe/Paris
BEGIN:DAYLIGHT
TZOFFSETFROM:+0100
TZOFFSETTO:+0200
TZNAME:CEST
DTSTART:20250330T010000
END:DAYLIGHT
BEGIN:STANDARD
TZOFFSETFROM:+0200
TZOFFSETTO:+0100
TZNAME:CET
DTSTART:20251026T010000
END:STANDARD
BEGIN:DAYLIGHT
TZOFFSETFROM:+0100
TZOFFSETTO:+0200
TZNAME:CEST
DTSTART:20260329T010000
END:DAYLIGHT
BEGIN:STANDARD
TZOFFSETFROM:+0200
TZOFFSETTO:+0100
TZNAME:CET
DTSTART:20261025T010000
END:STANDARD
BEGIN:DAYLIGHT
TZOFFSETFROM:+0100
TZOFFSETTO:+0200
TZNAME:CEST
DTSTART:20270328T010000
END:DAYLIGHT
BEGIN:STANDARD
TZOFFSETFROM:+0200
TZOFFSETTO:+0100
TZNAME:CET
DTSTART:20271031T010000
END:STANDARD
END:VTIMEZONE
BEGIN:VEVENT
DTSTART;TZID=Europe/Paris:20260506T143000
DTEND;TZID=Europe/Paris:20260506T153000
DTSTAMP:20260421T065316
CREATED:20260420T082749Z
LAST-MODIFIED:20260420T082749Z
UID:108925-1778077800-1778081400@research4committees.blog
SUMMARY:PECH study presentation: Navigating the new MFF approach for 2028-2034 - Mapping threats and opportunities for the fisheries and aquaculture sectors
DESCRIPTION:
URL:https://research4committees.blog/event/pech-study-presentation-navigating-the-new-mff-approach-for-2028-2034-mapping-threats-and-opportunities-for-the-fisheries-and-aquaculture-sectors/
LOCATION:SPINELLI 1E2 European Parliament\, 60 rue Wiertz\, Brussels\, 1047\, Belgium
CATEGORIES:Study presentation,PECH events
END:VEVENT
END:VCALENDAR